BEGIN:VCALENDAR
VERSION:2.0
PRODID:-//Arlington Heights Park District - ECPv6.15.20//NONSGML v1.0//EN
CALSCALE:GREGORIAN
METHOD:PUBLISH
X-ORIGINAL-URL:https://www.ahpd.org
X-WR-CALDESC:Events for Arlington Heights Park District
REFRESH-INTERVAL;VALUE=DURATION:PT1H
X-Robots-Tag:noindex
X-PUBLISHED-TTL:PT1H
BEGIN:VTIMEZONE
TZID:America/Chicago
BEGIN:DAYLIGHT
TZOFFSETFROM:-0600
TZOFFSETTO:-0500
TZNAME:CDT
DTSTART:20250309T080000
END:DAYLIGHT
BEGIN:STANDARD
TZOFFSETFROM:-0500
TZOFFSETTO:-0600
TZNAME:CST
DTSTART:20251102T070000
END:STANDARD
BEGIN:DAYLIGHT
TZOFFSETFROM:-0600
TZOFFSETTO:-0500
TZNAME:CDT
DTSTART:20260308T080000
END:DAYLIGHT
BEGIN:STANDARD
TZOFFSETFROM:-0500
TZOFFSETTO:-0600
TZNAME:CST
DTSTART:20261101T070000
END:STANDARD
BEGIN:DAYLIGHT
TZOFFSETFROM:-0600
TZOFFSETTO:-0500
TZNAME:CDT
DTSTART:20270314T080000
END:DAYLIGHT
BEGIN:STANDARD
TZOFFSETFROM:-0500
TZOFFSETTO:-0600
TZNAME:CST
DTSTART:20271107T070000
END:STANDARD
END:VTIMEZONE
BEGIN:VEVENT
DTSTART;VALUE=DATE:20260414
DTEND;VALUE=DATE:20260415
DTSTAMP:20260423T032340
CREATED:20260203T165020Z
LAST-MODIFIED:20260203T165020Z
UID:10000213-1776124800-1776211199@www.ahpd.org
SUMMARY:Summer Non-Resident Registration
DESCRIPTION:Get ready for the best summer ever! Non-resident registration for summer opens on April 14! Secure your child’s spot for a season filled with adventure\, friendship and non-stop fun.
URL:https://www.ahpd.org/event/summer-non-resident-registration/
LOCATION:IL
ATTACH;FMTTYPE=image/jpeg:https://www.ahpd.org/wp-content/uploads/2024/03/iStock-1671901388-jpg.avif
END:VEVENT
END:VCALENDAR